BEGIN:VCALENDAR
VERSION:2.0
PRODID:-//InvisionCommunity Events 4.7.14//EN
METHOD:PUBLISH
CALSCALE:GREGORIAN
REFRESH-INTERVAL:PT15M
X-PUBLISHED-TTL:PT15M
X-WR-CALNAME:Events
NAME:Events
BEGIN:VTIMEZONE
TZID:Europe/London
TZURL:http://tzurl.org/zoneinfo/Europe/London
X-LIC-LOCATION:Europe/London
BEGIN:DAYLIGHT
TZOFFSETFROM:+0000
TZOFFSETTO:+0100
TZNAME:BST
DTSTART:20190331T020000Z
RRULE:FREQ=YEARLY;BYMONTH=3;BYDAY=-1SU
END:DAYLIGHT
BEGIN:STANDARD
TZOFFSETFROM:+0100
TZOFFSETTO:+0000
TZNAME:GMT
DTSTART:20191027T020000Z
RRULE:FREQ=YEARLY;BYMONTH=10;BYDAY=-1SU
END:STANDARD
END:VTIMEZONE
BEGIN:VTIMEZONE
TZID:Europe/London
TZURL:http://tzurl.org/zoneinfo/Europe/London
X-LIC-LOCATION:Europe/London
BEGIN:DAYLIGHT
TZOFFSETFROM:+0000
TZOFFSETTO:+0100
TZNAME:BST
DTSTART:20230326T020000Z
RRULE:FREQ=YEARLY;BYMONTH=3;BYDAY=-1SU
END:DAYLIGHT
BEGIN:STANDARD
TZOFFSETFROM:+0100
TZOFFSETTO:+0000
TZNAME:GMT
DTSTART:20231029T020000Z
RRULE:FREQ=YEARLY;BYMONTH=10;BYDAY=-1SU
END:STANDARD
END:VTIMEZONE
BEGIN:VEVENT
SUMMARY:A
DTSTAMP:20190102T153625Z
SEQUENCE:0
UID:11-8-c15f26cc49ccb1c7070b123001db9dc8@www.ageofcivilizationsgame.com
ORGANIZER;CN="Future mapper":jakowskidev@gmail.com
DESCRIPTION:\n	A\n
DTSTART;VALUE=DATE:20190120
END:VEVENT
BEGIN:VEVENT
SUMMARY:A
DTSTAMP:20190102T153358Z
SEQUENCE:0
UID:10-8-c15f26cc49ccb1c7070b123001db9dc8@www.ageofcivilizationsgame.com
ORGANIZER;CN="Future mapper":jakowskidev@gmail.com
DESCRIPTION:\n\n	\n		Quote\n	\n\n	\n		\n			A\n		\n	\n\n\n\n	A\n\n
DTSTART;VALUE=DATE:20230423
END:VEVENT
BEGIN:VEVENT
SUMMARY:A
DTSTAMP:20190102T153326Z
SEQUENCE:0
UID:9-8-c15f26cc49ccb1c7070b123001db9dc8@www.ageofcivilizationsgame.com
ORGANIZER;CN="Future mapper":jakowskidev@gmail.com
DESCRIPTION:\n	A \n
DTSTART;VALUE=DATE:20190102
END:VEVENT
END:VCALENDAR
